BEGIN:VCALENDAR
VERSION:2.0
PRODID:-//CEAM - ECPv4.6.22//NONSGML v1.0//EN
CALSCALE:GREGORIAN
METHOD:PUBLISH
X-WR-CALNAME:CEAM
X-ORIGINAL-URL:https://www.ceam.org.uy
X-WR-CALDESC:Eventos para CEAM
BEGIN:VEVENT
DTSTART;TZID=UTC-3:20190503T093000
DTEND;TZID=UTC-3:20190503T110000
DTSTAMP:20260422T014306
CREATED:20190415T215754Z
LAST-MODIFIED:20190504T191909Z
UID:3230-1556875800-1556881200@www.ceam.org.uy
SUMMARY:09.00 h  :: Reunión de CICU
DESCRIPTION:09.00 h  Reunión de CICU (Consejo de Iglesias Cristianas del Uruguay) \nCompartirHaz clic para compartir en Facebook (Se abre en una ventana nueva)Haz clic para compartir en WhatsApp (Se abre en una ventana nueva)\n\n	\n
URL:https://www.ceam.org.uy/evento/09-00-h-reunion-de-cicu-2/
CATEGORIES:Otros
END:VEVENT
END:VCALENDAR