BEGIN:VCALENDAR
VERSION:2.0
PRODID:-//CEAM - ECPv4.6.22//NONSGML v1.0//EN
CALSCALE:GREGORIAN
METHOD:PUBLISH
X-WR-CALNAME:CEAM
X-ORIGINAL-URL:https://www.ceam.org.uy
X-WR-CALDESC:Eventos para CEAM
BEGIN:VEVENT
DTSTART;TZID=UTC-3:20220827T180000
DTEND;TZID=UTC-3:20220827T193000
DTSTAMP:20260425T215726
CREATED:20220802T222730Z
LAST-MODIFIED:20220823T212705Z
UID:5963-1661623200-1661628600@www.ceam.org.uy
SUMMARY:​Sábado 27 de agosto  ​- ​18 h ​- ​concierto con la Soprano Patricia Curzio -  Verdi apasionado
DESCRIPTION:\nSábado 27 de agosto 18 h Concierto con Patricia Curzio  \nNuevamente tenemos un concierto con la voz de la Soprano Patricia Curzio con su concierto sobre Verdi acompañada al piano por el maestro Ezequiel Larré \nTendrá lugar el domingo 27de agosto a la hora 18:00\, en la Congregación Evangélica Alemana de Montevideo (Juan Manuel Blanes 1116 esquina Durazno) \nLa iglesia agradecerá una colaboración de $250 o más a la entrada.\nPROGRAMA\nEste año la cantante lírica Patricia Curzio presenta un nuevo Ciclo de Conciertos para soprano y piano\, “Verdi Apasionado”\, esta vez dedicado al repertorio operístico propiamente dicho plasmado en la obra  del inigualable compositor italiano Giuseppe Verdi\, quien representa el verismo en la historia de la música ya iniciado en forma magistral por Giacomo Puccini\, el drama musical expresado en su máxima esencia\, el compositor de Opera por excelencia. Verdi supo infundir en su música el dramatismo de la condición humana expresado en el sublime arte de la composición\, un artista que manifestaba un profundo compromiso  con las circunstancias sociales y políticas de su época. Es el repertorio verdiano tarea ardua para el cantante y un gran desafío profesional ya que exige una gran potencia vocal y emotiva\, desarrollo  amplio de registro y capacidad interpretativa sobre el escenario\, todo en forma conjunta. Este ciclo recorre las arias para soprano infaltables en el repertorio operístico en su máxima expresión\, pertenecientes a sus Operas más emblemáticas como La Traviata\, Il Trovatore\, La forza del Destino\, Don Carlo\, Aida\, entre otros grandes títulos. La obra de Verdi es inmensa\, vastísima en formas y contenidos ya que compuso hasta sus últimos años de manera incansable. Acompaña al piano el maestro Ezequiel Larré. \nPrograma\n-“Addio\, del passato ”- La Traviata\n-“Ah\, fors´é lui” ”- La Traviata\n-“Pace\, pace\, mio Dio”- La forza del Destino\n-“Tacea la notte placida”- Il Trovatore\n-“Tu che le vanita´”- Don Carlo\n-“D´ amor sull ´ ali rosee”- Il Trovatore\n– “Ritorna vincitor\, Numi pietá”- Aida\n– “O patria mia”- Aida \nCompartirHaz clic para compartir en Facebook (Se abre en una ventana nueva)Haz clic para compartir en WhatsApp (Se abre en una ventana nueva)\n\n	\n
URL:https://www.ceam.org.uy/evento/%e2%80%8bsabado-27-de-agosto-%e2%80%8b-%e2%80%8b17-h-%e2%80%8b-%e2%80%8bconcierto-con-la-soprano-patricia-curzio-verdi-apasionado/
CATEGORIES:Conciertos/Conferencias
END:VEVENT
END:VCALENDAR