BEGIN:VCALENDAR
VERSION:2.0
PRODID:-//CEAM - ECPv4.6.22//NONSGML v1.0//EN
CALSCALE:GREGORIAN
METHOD:PUBLISH
X-WR-CALNAME:CEAM
X-ORIGINAL-URL:https://www.ceam.org.uy
X-WR-CALDESC:Eventos para CEAM
BEGIN:VEVENT
DTSTART;TZID=UTC-3:20220813T160000
DTEND;TZID=UTC-3:20220813T170000
DTSTAMP:20260426T015136
CREATED:20220802T222126Z
LAST-MODIFIED:20220811T175216Z
UID:5953-1660406400-1660410000@www.ceam.org.uy
SUMMARY:​Sábado 13 de Agosto  -  16 h  - Curso bíblico y teológico - Por zoom
DESCRIPTION:​Tema: Biblia Teología  CEAM \nUnirse a la reunión Zoom con este Link\nhttps://us02web.zoom.us/j/76337541478?pwd=K1dBMCs4OE1wcExDSk1LcXIvZ2lSdz09 \nID de reunión: 763 3754 1478\nCódigo de acceso: 9fN3F5\n \nCompartirHaz clic para compartir en Facebook (Se abre en una ventana nueva)Haz clic para compartir en WhatsApp (Se abre en una ventana nueva)\n\n	\n
URL:https://www.ceam.org.uy/evento/%e2%80%8bsabado-13-de-agosto-16-h-curso-biblico-y-teologico-por-zoom/
CATEGORIES:Charlas/Estudios Bíblicos
END:VEVENT
END:VCALENDAR