BEGIN:VCALENDAR
VERSION:2.0
PRODID:-//CEAM - ECPv4.6.22//NONSGML v1.0//EN
CALSCALE:GREGORIAN
METHOD:PUBLISH
X-WR-CALNAME:CEAM
X-ORIGINAL-URL:https://www.ceam.org.uy
X-WR-CALDESC:Eventos para CEAM
BEGIN:VEVENT
DTSTART;TZID=UTC-3:20220828T110000
DTEND;TZID=UTC-3:20220828T123000
DTSTAMP:20260425T200736
CREATED:20220802T222804Z
LAST-MODIFIED:20220823T213115Z
UID:5965-1661684400-1661689800@www.ceam.org.uy
SUMMARY:​Domingo 28 de agosoto ​- 11 h - ​culto ​en castellano ​con Santa Cena
DESCRIPTION:\nDomingo 28 de Agosto 11 h  Culto con Santa Cena. \n10° Domingo después de TRINIDAD \n  P. Dr. Jerónimo Granados (Predicación Lucas 18\,9-14) \n Maestro Daniel Francis (Órgano) \nCon la participación del Coro de la Congregación Evangélica de Montevideo \nPara participar del coro de la Congregación.\nCada miércoles se hacen audiciones para integrarlo al conjunto\, por favor comunicarse antes con el Director Maestro Daniel Francis al teléfono celular / WahtsApp  092082234 \nCompartirHaz clic para compartir en Facebook (Se abre en una ventana nueva)Haz clic para compartir en WhatsApp (Se abre en una ventana nueva)\n\n	\n
URL:https://www.ceam.org.uy/evento/%e2%80%8bdomingo-28-de-agosoto-%e2%80%8b-11-h-%e2%80%8bculto-%e2%80%8ben-castellano-%e2%80%8bcon-santa-cena/
CATEGORIES:Cultos
END:VEVENT
END:VCALENDAR